BEGIN:VCALENDAR
VERSION:2.0
METHOD:PUBLISH
PRODID:-//ActiveDataExchange/NEXTGEN V1//EN
BEGIN:VEVENT
ORGANIZER:mailto:scason@msjc.edu
DTSTART:20260506T160000Z
DTEND:20260506T190000Z
DTSTAMP:20260425T034614Z
LOCATION:Temecula Valley Campus 41888 Motor Car Parkway Temecula CA 92591
SUMMARY:Monthly Math Jams
DESCRIPTION:Come join us to get help in your math course, get informatio
 n on specific college resources, and network with professor
 s, peer tutors and other students.\nView the full event details here: https://calendar.msjc.edu/event/monthly-math-jams-7/
CATEGORIES:Math Center, MSJC Events, Workshops
CONTACT:Stephanie Cason,scason@msjc.edu
CLASS:PUBLIC
UID:1D7CA00E-5A95-4E9E-895D-383636CD268C
BEGIN:VALARM
TRIGGER:-PT15M
ACTION:DISPLAY
DESCRIPTION:Monthly Math Jams
END:VALARM
END:VEVENT
END:VCALENDAR
